BEGIN:VCALENDAR
VERSION:2.0
PRODID:-//eventon.com NONSGML v1.0//EN
BEGIN:VEVENT
UID:69e8e4128a3d8
DTSTAMP:20260422T100658
DTSTART:20260403T050000Z
DTEND:20260404T045900Z
LOCATION:Shoreview Community Center 4580 Victoria St N\,  Shoreview\,  MN 55126
SUMMARY:Good Friday Services - 5:00pm & 6:30pm
DESCRIPTION: Good Friday Services Service Times: 5:00pm and 6:30pm at the Shoreview Community Center.  On Good Friday we commemorate one of history's darkest moments\,  and celebrate all that God accomplished through the sacrifice of Jesus Christ. ECC Kids Good Friday Experience A special kids service will also be offered for age[..]
END:VEVENT
END:VCALENDAR