BEGIN:VCALENDAR
VERSION:2.0
PRODID:-//eventon.com NONSGML v1.0//EN
BEGIN:VEVENT
UID:69e8e49399c48
DTSTAMP:20260422T100907
DTSTART:20260405T133000Z
DTEND:20260405T170000Z
LOCATION:Shoreview Community Center 4580 Victoria St N\,  Shoreview\,  MN 55126
SUMMARY:Easter Sunday - 8:30am\,  9:30am & 10:30am & 10:00am (Bilingual)
DESCRIPTION: Celebrate Easter with us - 8:30am\,  9:30am & 10:30am & 10:00am (Bilingual) He is risen! Join us for Easter services at the Shoreview Community Center at 8:30am\,  9:30am and 10:30am (English) and our bilingual (Spanish/English) service is at 10:00am! We will also provide online services available at 7:00am right here[..]
END:VEVENT
END:VCALENDAR