BEGIN:VCALENDAR
VERSION:2.0
PRODID:-//eventon.com NONSGML v1.0//EN
BEGIN:VEVENT
UID:69e65afcd252e
DTSTAMP:20260420T115732
DTSTART:20241026T050000Z
DTEND:20241027T045900Z
LOCATION:
SUMMARY:Fall KIDS Carnival
DESCRIPTION: Join us at the Fall Carnival! REGISTER HERE! Who: ECC KIDS and BRIDGE 45 Families and Friends! What: Games\,  Prizes\,  Sno-Cones\,  Popcorn\,  Costumes and Fun! When: Saturday\,  October 26. Two sessions at 10am and 12:30pm. Where: Emmanuel Studios Additional Information: Due to limited space we ask that families sign up for either the 10am[..]
END:VEVENT
END:VCALENDAR