BEGIN:VCALENDAR
VERSION:2.0
PRODID:-//eventon.com NONSGML v1.0//EN
BEGIN:VEVENT
UID:69e7b24ba9d4d
DTSTAMP:20260421T122219
DTSTART:20221001T180000Z
DTEND:20221001T210000Z
LOCATION:Emmanuel Studios 1775 Old Highway 8
SUMMARY:Crafts & Cocoa
DESCRIPTION: Join the women of ECC and friends at Emmanuel Studios to create custom signs\,  get to know one another\,  and enjoy a hot cocoa bar! 1:00pm Emmanuel Studios 1775 Old Highway 8\,  Suite 111 New Brighton\,  MN 55112 Here are some examples of the wood signs you will be able[..]
END:VEVENT
END:VCALENDAR