BEGIN:VCALENDAR
VERSION:2.0
PRODID:-//eventon.com NONSGML v1.0//EN
BEGIN:VEVENT
UID:69e8f2b1cde5e
DTSTAMP:20260422T110921
DTSTART:20190504T000000Z
DTEND:20190504T013000Z
LOCATION:Rice Creek Covenant Church 125 Ash St\,  St Paul\,  MN 55126
SUMMARY:ECC Pre-TEEN Friday Night Live
DESCRIPTION: Join us on Friday night for Friday Night Live!  Rice Creek Covenant has graciously allowed us to hold these events at their church in Shoreview.  PreTeens will experience a small taste of what Wednesday night youth group is like... but FNL is just for them! Students in grades 4-5 grow[..]
END:VEVENT
END:VCALENDAR