BEGIN:VCALENDAR
VERSION:2.0
PRODID:-//eventon.com NONSGML v1.0//EN
BEGIN:VEVENT
UID:69e52200c519c
DTSTAMP:20260419T134208
DTSTART:20250119T010000Z
DTEND:20250119T045900Z
LOCATION:Emmanuel Studios 1775 Old Highway 8
SUMMARY:Men's Game Night
DESCRIPTION: Men’s Game Nights Join with other ECC guys on the first and third Saturday nights each month for game night where we can  build community\,  share some laughs\,  and play some serious games! Throughout the year this group will gather together on Saturday nights to enrich relationships by sitting down[..]
END:VEVENT
END:VCALENDAR